BEGIN:VCALENDAR
VERSION:2.0
PRODID:-//Wildflower Journal - ECPv6.15.20//NONSGML v1.0//EN
CALSCALE:GREGORIAN
METHOD:PUBLISH
X-WR-CALNAME:Wildflower Journal
X-ORIGINAL-URL:https://wildflowerjournal.net
X-WR-CALDESC:Events for Wildflower Journal
REFRESH-INTERVAL;VALUE=DURATION:PT1H
X-Robots-Tag:noindex
X-PUBLISHED-TTL:PT1H
BEGIN:VTIMEZONE
TZID:America/Vancouver
BEGIN:DAYLIGHT
TZOFFSETFROM:-0800
TZOFFSETTO:-0700
TZNAME:PDT
DTSTART:20240310T100000
END:DAYLIGHT
BEGIN:STANDARD
TZOFFSETFROM:-0700
TZOFFSETTO:-0800
TZNAME:PST
DTSTART:20241103T090000
END:STANDARD
BEGIN:DAYLIGHT
TZOFFSETFROM:-0800
TZOFFSETTO:-0700
TZNAME:PDT
DTSTART:20250309T100000
END:DAYLIGHT
BEGIN:STANDARD
TZOFFSETFROM:-0700
TZOFFSETTO:-0800
TZNAME:PST
DTSTART:20251102T090000
END:STANDARD
BEGIN:DAYLIGHT
TZOFFSETFROM:-0800
TZOFFSETTO:-0700
TZNAME:PDT
DTSTART:20260308T100000
END:DAYLIGHT
BEGIN:STANDARD
TZOFFSETFROM:-0700
TZOFFSETTO:-0800
TZNAME:PST
DTSTART:20261101T090000
END:STANDARD
END:VTIMEZONE
BEGIN:VEVENT
DTSTART;TZID=America/Vancouver:20251004T090000
DTEND;TZID=America/Vancouver:20251004T170000
DTSTAMP:20260422T164644
CREATED:20250918T220146Z
LAST-MODIFIED:20250918T220146Z
UID:1300-1759568400-1759597200@wildflowerjournal.net
SUMMARY:Kamloops Wetlands Restoration
DESCRIPTION:Kamloops Wetland Restoration\n\nOctober 4 @ 9:00 am – October 5 @ 5:00 pm\n\n\n\n\nBC Wildlife Federation – Tranquille Wildlife Area \nDetails at this Link – Kamloops Wetland Restoration
URL:https://wildflowerjournal.net/event/kamloops-wetlands-restoration/
END:VEVENT
BEGIN:VEVENT
DTSTART;TZID=America/Vancouver:20251011T090000
DTEND;TZID=America/Vancouver:20251013T120000
DTSTAMP:20260422T164644
CREATED:20250928T201121Z
LAST-MODIFIED:20250928T201121Z
UID:1335-1760173200-1760356800@wildflowerjournal.net
SUMMARY:Stake Lake Trail Clearing
DESCRIPTION:TRAIL CLEARING DAYS: OCTOBER 11\, 12 AND 13 (from 9am to noon or later).\n\nMEET IN FRONT OF THE LODGE\n\n\nPlease bring work gloves\, loppers\, small hand saws\, spade or shovel (to dig out rocks on the dog trails) and food and water.\n\n\nWe will tackle the dog trails as well as the off piste trails (and maybe some select is trails).\n\n\nWe appreciate any time anyone can make to keep our trails in the best shape possible in anticipation of winter!!\n\n\n\nLink – Overlander Ski Club\n\n 
URL:https://wildflowerjournal.net/event/stake-lake-trail-clearing/
LOCATION:Stake Lake\, Lac le Jeune Road\, Kamloops\, BC\, Canada
ATTACH;FMTTYPE=image/jpeg:https://wildflowerjournal.net/wp-content/uploads/2025/09/20250901_100444.jpg
END:VEVENT
BEGIN:VEVENT
DTSTART;TZID=America/Vancouver:20251016T190000
DTEND;TZID=America/Vancouver:20251016T210000
DTSTAMP:20260422T164644
CREATED:20250918T214754Z
LAST-MODIFIED:20250918T215204Z
UID:1290-1760641200-1760648400@wildflowerjournal.net
SUMMARY:Kamloops Naturalist Club Meeting
DESCRIPTION:October 16: Danielle Cross\, Nature Conservancy Canada.  How does the NCC work\, what are other mechanisms for conservation of land in BC. \n\nKamloops Naturalist Club
URL:https://wildflowerjournal.net/event/kamloops-naturalist-club-meeting/
LOCATION:Heritage House\, Rivers\, Kamloops\, BC\, V2E 1K4\, Canada
END:VEVENT
BEGIN:VEVENT
DTSTART;TZID=America/Vancouver:20251022T070000
DTEND;TZID=America/Vancouver:20251022T210000
DTSTAMP:20260422T164644
CREATED:20250918T220449Z
LAST-MODIFIED:20251021T170735Z
UID:1303-1761116400-1761166800@wildflowerjournal.net
SUMMARY:KGC Meeting
DESCRIPTION:KGC Monthly meeting – more info on their new website – Kamloops Garden Club
URL:https://wildflowerjournal.net/event/kgc-meeting/
LOCATION:Heritage House\, Rivers\, Kamloops\, BC\, V2E 1K4\, Canada
ORGANIZER;CN="Kamloops Garden Club":MAILTO:thekamloopsgardenclub@gmail.com
END:VEVENT
BEGIN:VEVENT
DTSTART;TZID=America/Vancouver:20251022T083000
DTEND;TZID=America/Vancouver:20251022T103000
DTSTAMP:20260422T164644
CREATED:20250918T220900Z
LAST-MODIFIED:20250918T220914Z
UID:1305-1761121800-1761129000@wildflowerjournal.net
SUMMARY:Barnhartvale Grasslands Walk
DESCRIPTION:Barnhartvale Grasslands Walk\nDallas-Barnhartvale Nature Park\n\n\nJoin the GCC to look at grasslands and open forest east of Kamloops in the Dallas-Barnhartvale Nature Park\, 8:30 to 10:30. See: https://simpli.events/e/dallas-barnhartvale-grasslands-walk  
URL:https://wildflowerjournal.net/event/1305/
END:VEVENT
END:VCALENDAR