BEGIN:VCALENDAR
VERSION:2.0
PRODID:-//Wildflower Journal - ECPv6.15.20//NONSGML v1.0//EN
CALSCALE:GREGORIAN
METHOD:PUBLISH
X-WR-CALNAME:Wildflower Journal
X-ORIGINAL-URL:https://wildflowerjournal.net
X-WR-CALDESC:Events for Wildflower Journal
REFRESH-INTERVAL;VALUE=DURATION:PT1H
X-Robots-Tag:noindex
X-PUBLISHED-TTL:PT1H
BEGIN:VTIMEZONE
TZID:America/Vancouver
BEGIN:DAYLIGHT
TZOFFSETFROM:-0800
TZOFFSETTO:-0700
TZNAME:PDT
DTSTART:20240310T100000
END:DAYLIGHT
BEGIN:STANDARD
TZOFFSETFROM:-0700
TZOFFSETTO:-0800
TZNAME:PST
DTSTART:20241103T090000
END:STANDARD
BEGIN:DAYLIGHT
TZOFFSETFROM:-0800
TZOFFSETTO:-0700
TZNAME:PDT
DTSTART:20250309T100000
END:DAYLIGHT
BEGIN:STANDARD
TZOFFSETFROM:-0700
TZOFFSETTO:-0800
TZNAME:PST
DTSTART:20251102T090000
END:STANDARD
BEGIN:DAYLIGHT
TZOFFSETFROM:-0800
TZOFFSETTO:-0700
TZNAME:PDT
DTSTART:20260308T100000
END:DAYLIGHT
BEGIN:STANDARD
TZOFFSETFROM:-0700
TZOFFSETTO:-0800
TZNAME:PST
DTSTART:20261101T090000
END:STANDARD
END:VTIMEZONE
BEGIN:VEVENT
DTSTART;TZID=America/Vancouver:20250921T080000
DTEND;TZID=America/Vancouver:20250921T170000
DTSTAMP:20260422T150919
CREATED:20250918T211951Z
LAST-MODIFIED:20250918T211951Z
UID:1287-1758441600-1758474000@wildflowerjournal.net
SUMMARY:Ashcroft Grasslands Tour
DESCRIPTION:Depart Kamloops at 8:00 from Kenna Cartwright Parking and meet at Ashcroft Legacy Park for carpooling at 9:15. Tour Barnes Lake and other area grasslands and a late stop at Desert Gardens for those who wish. Return to Kamloops by 5:00 pm \n\n\nTour lower and middle grasslands in the Ashcroft area looking at native and seeded grasslands\, wildfire recovery\, invasive plants and grazing use. Led by Mike Dedels\, Executive Director of the GCC with other botanists and naturalists and hopefully joined by local experts/ranchers \n\n\nSee: https://simpli.events/e/ashcroft-grasslands-tour
URL:https://wildflowerjournal.net/event/ashcroft-grasslands-tour/
END:VEVENT
END:VCALENDAR