BEGIN:VCALENDAR
VERSION:2.0
PRODID:-//Wildflower Journal - ECPv6.15.20//NONSGML v1.0//EN
CALSCALE:GREGORIAN
METHOD:PUBLISH
X-ORIGINAL-URL:https://wildflowerjournal.net
X-WR-CALDESC:Events for Wildflower Journal
REFRESH-INTERVAL;VALUE=DURATION:PT1H
X-Robots-Tag:noindex
X-PUBLISHED-TTL:PT1H
BEGIN:VTIMEZONE
TZID:America/Vancouver
BEGIN:DAYLIGHT
TZOFFSETFROM:-0800
TZOFFSETTO:-0700
TZNAME:PDT
DTSTART:20250309T100000
END:DAYLIGHT
BEGIN:STANDARD
TZOFFSETFROM:-0700
TZOFFSETTO:-0800
TZNAME:PST
DTSTART:20251102T090000
END:STANDARD
BEGIN:DAYLIGHT
TZOFFSETFROM:-0800
TZOFFSETTO:-0700
TZNAME:PDT
DTSTART:20260308T100000
END:DAYLIGHT
BEGIN:STANDARD
TZOFFSETFROM:-0700
TZOFFSETTO:-0800
TZNAME:PST
DTSTART:20261101T090000
END:STANDARD
BEGIN:DAYLIGHT
TZOFFSETFROM:-0800
TZOFFSETTO:-0700
TZNAME:PDT
DTSTART:20270314T100000
END:DAYLIGHT
BEGIN:STANDARD
TZOFFSETFROM:-0700
TZOFFSETTO:-0800
TZNAME:PST
DTSTART:20271107T090000
END:STANDARD
END:VTIMEZONE
BEGIN:VEVENT
DTSTART;VALUE=DATE:20260525
DTEND;VALUE=DATE:20260526
DTSTAMP:20260422T151201
CREATED:20260226T001459Z
LAST-MODIFIED:20260226T001459Z
UID:1967-1779667200-1779753599@wildflowerjournal.net
SUMMARY:Venables Lake and Red Hill
DESCRIPTION:A drive through Venables Valley with stops to enjoy the wildflowers\, a paddle on Venables Lake (one hour)\, then a stop at Red Hill with a short hike to observe the bitterroot in bloom. \nTime tbd\, and dependent on the weather.
URL:https://wildflowerjournal.net/event/venables-lake-and-red-hill/
CATEGORIES:Nature Hikes
ATTACH;FMTTYPE=image/jpeg:https://wildflowerjournal.net/wp-content/uploads/2026/02/Red-Hill-and-Venables-Valley-022-e1772064834141.jpg
END:VEVENT
BEGIN:VEVENT
DTSTART;VALUE=DATE:20260626
DTEND;VALUE=DATE:20260627
DTSTAMP:20260422T151201
CREATED:20260226T003922Z
LAST-MODIFIED:20260226T003922Z
UID:1970-1782432000-1782518399@wildflowerjournal.net
SUMMARY:Mt. Thynne
DESCRIPTION:A nature hike.    Drive from Kamloops to Brookmere\, then up the Mt. Thynne backroads on high clearance roads to the trailhead.    Hike over the mountain ridge and alpine meadows for the summer bloom.
URL:https://wildflowerjournal.net/event/mt-thynne/
LOCATION:Mt. Thynne\, Thynne Mountain Road\, Brookmere\, Canada
CATEGORIES:Nature Hikes
ATTACH;FMTTYPE=image/jpeg:https://wildflowerjournal.net/wp-content/uploads/2025/06/Hyas-Lake-Area-012.jpg
END:VEVENT
END:VCALENDAR