BEGIN:VCALENDAR
VERSION:2.0
PRODID:-//Wildflower Journal - ECPv6.15.20//NONSGML v1.0//EN
CALSCALE:GREGORIAN
METHOD:PUBLISH
X-WR-CALNAME:Wildflower Journal
X-ORIGINAL-URL:https://wildflowerjournal.net
X-WR-CALDESC:Events for Wildflower Journal
REFRESH-INTERVAL;VALUE=DURATION:PT1H
X-Robots-Tag:noindex
X-PUBLISHED-TTL:PT1H
BEGIN:VTIMEZONE
TZID:America/Vancouver
BEGIN:DAYLIGHT
TZOFFSETFROM:-0800
TZOFFSETTO:-0700
TZNAME:PDT
DTSTART:20240310T100000
END:DAYLIGHT
BEGIN:STANDARD
TZOFFSETFROM:-0700
TZOFFSETTO:-0800
TZNAME:PST
DTSTART:20241103T090000
END:STANDARD
BEGIN:DAYLIGHT
TZOFFSETFROM:-0800
TZOFFSETTO:-0700
TZNAME:PDT
DTSTART:20250309T100000
END:DAYLIGHT
BEGIN:STANDARD
TZOFFSETFROM:-0700
TZOFFSETTO:-0800
TZNAME:PST
DTSTART:20251102T090000
END:STANDARD
BEGIN:DAYLIGHT
TZOFFSETFROM:-0800
TZOFFSETTO:-0700
TZNAME:PDT
DTSTART:20260308T100000
END:DAYLIGHT
BEGIN:STANDARD
TZOFFSETFROM:-0700
TZOFFSETTO:-0800
TZNAME:PST
DTSTART:20261101T090000
END:STANDARD
END:VTIMEZONE
BEGIN:VEVENT
DTSTART;TZID=America/Vancouver:20250928T093000
DTEND;TZID=America/Vancouver:20250928T120000
DTSTAMP:20260422T203458
CREATED:20250918T215444Z
LAST-MODIFIED:20250918T215444Z
UID:1295-1759051800-1759060800@wildflowerjournal.net
SUMMARY:BC Rivers Day - Garbage Cleanup
DESCRIPTION:Tranquille Road Garbage Cleanup\n\nSeptember 28 @ 9:30 am – 12:00 pm\n\n\n\nSeptember 28 is BC Rivers Day and we (Kamloops Naturalist Club) will be holding our fall clean up along Tranquille Rd in conjunction with some work in the pond area to celebrate the day.  Details to follow—but keep the date open! \nWe will meet at the parking lot at Tranquille Pond
URL:https://wildflowerjournal.net/event/bc-rivers-day-garbage-cleanup/
END:VEVENT
BEGIN:VEVENT
DTSTART;TZID=America/Vancouver:20250927T110000
DTEND;TZID=America/Vancouver:20250927T150000
DTSTAMP:20260422T203458
CREATED:20250918T215805Z
LAST-MODIFIED:20250918T215805Z
UID:1297-1758970800-1758985200@wildflowerjournal.net
SUMMARY:Salmon Run Event at Tranquille
DESCRIPTION:Salmon Run Event at Tranquille Creek\, Pine Park\n\nSeptember 27 @ 11:00 am – 3:00 pm\n\n\n\nOn Saturday\, September 27th\, BC Parks and partners are hosting a salmon run viewing activity at Pine Park\, Tranquille. It’s forecasted to be a huge return for pinks this year. \nThe event is from 11:00 to 3:00 \nThe salmon run has begun in BC Parks – BC Parks Blog
URL:https://wildflowerjournal.net/event/salmon-run-event-at-tranquille/
END:VEVENT
BEGIN:VEVENT
DTSTART;TZID=America/Vancouver:20250924T190000
DTEND;TZID=America/Vancouver:20250924T210000
DTSTAMP:20260422T203458
CREATED:20250918T211124Z
LAST-MODIFIED:20250918T211124Z
UID:1278-1758740400-1758747600@wildflowerjournal.net
SUMMARY:Kamloops Garden Club Meeting
DESCRIPTION:Details on their (new) website – Kamloops Garden Club \n 
URL:https://wildflowerjournal.net/event/kamloops-garden-club-meeting/
LOCATION:Heritage House\, Rivers\, Kamloops\, BC\, V2E 1K4\, Canada
ORGANIZER;CN="Kamloops Garden Club":MAILTO:thekamloopsgardenclub@gmail.com
END:VEVENT
BEGIN:VEVENT
DTSTART;TZID=America/Vancouver:20250921T080000
DTEND;TZID=America/Vancouver:20250921T170000
DTSTAMP:20260422T203458
CREATED:20250918T211951Z
LAST-MODIFIED:20250918T211951Z
UID:1287-1758441600-1758474000@wildflowerjournal.net
SUMMARY:Ashcroft Grasslands Tour
DESCRIPTION:Depart Kamloops at 8:00 from Kenna Cartwright Parking and meet at Ashcroft Legacy Park for carpooling at 9:15. Tour Barnes Lake and other area grasslands and a late stop at Desert Gardens for those who wish. Return to Kamloops by 5:00 pm \n\n\nTour lower and middle grasslands in the Ashcroft area looking at native and seeded grasslands\, wildfire recovery\, invasive plants and grazing use. Led by Mike Dedels\, Executive Director of the GCC with other botanists and naturalists and hopefully joined by local experts/ranchers \n\n\nSee: https://simpli.events/e/ashcroft-grasslands-tour
URL:https://wildflowerjournal.net/event/ashcroft-grasslands-tour/
END:VEVENT
END:VCALENDAR